BEGIN:VCALENDAR
VERSION:2.0
PRODID:-// - ECPv6.15.20//NONSGML v1.0//EN
CALSCALE:GREGORIAN
METHOD:PUBLISH
X-ORIGINAL-URL:https://huellbergschule.de
X-WR-CALDESC:Veranstaltungen für 
REFRESH-INTERVAL;VALUE=DURATION:PT1H
X-Robots-Tag:noindex
X-PUBLISHED-TTL:PT1H
BEGIN:VTIMEZONE
TZID:Europe/Berlin
BEGIN:DAYLIGHT
TZOFFSETFROM:+0100
TZOFFSETTO:+0200
TZNAME:CEST
DTSTART:20220327T010000
END:DAYLIGHT
BEGIN:STANDARD
TZOFFSETFROM:+0200
TZOFFSETTO:+0100
TZNAME:CET
DTSTART:20221030T010000
END:STANDARD
BEGIN:DAYLIGHT
TZOFFSETFROM:+0100
TZOFFSETTO:+0200
TZNAME:CEST
DTSTART:20230326T010000
END:DAYLIGHT
BEGIN:STANDARD
TZOFFSETFROM:+0200
TZOFFSETTO:+0100
TZNAME:CET
DTSTART:20231029T010000
END:STANDARD
BEGIN:DAYLIGHT
TZOFFSETFROM:+0100
TZOFFSETTO:+0200
TZNAME:CEST
DTSTART:20240331T010000
END:DAYLIGHT
BEGIN:STANDARD
TZOFFSETFROM:+0200
TZOFFSETTO:+0100
TZNAME:CET
DTSTART:20241027T010000
END:STANDARD
END:VTIMEZONE
BEGIN:VEVENT
DTSTART;VALUE=DATE:20230606
DTEND;VALUE=DATE:20230607
DTSTAMP:20260424T195133
CREATED:20220624T104230Z
LAST-MODIFIED:20230427T094656Z
UID:6051-1686009600-1686095999@huellbergschule.de
SUMMARY:Informationsabend künftige Lernanfänger:innen
DESCRIPTION:Der Informationsabend für die Eltern der zukünftigen Lernanfänger:innen findet um 19.00 Uhr statt.
URL:https://huellbergschule.de/termine/informationsabend-kuenftige-lernanfaengerinnen/
END:VEVENT
BEGIN:VEVENT
DTSTART;VALUE=DATE:20230608
DTEND;VALUE=DATE:20230609
DTSTAMP:20260424T195133
CREATED:20220624T104329Z
LAST-MODIFIED:20220624T104329Z
UID:6053-1686182400-1686268799@huellbergschule.de
SUMMARY:Fronleichnam
DESCRIPTION:
URL:https://huellbergschule.de/termine/fronleichnam-5/
END:VEVENT
BEGIN:VEVENT
DTSTART;VALUE=DATE:20230609
DTEND;VALUE=DATE:20230610
DTSTAMP:20260424T195133
CREATED:20220624T104410Z
LAST-MODIFIED:20220624T104410Z
UID:6055-1686268800-1686355199@huellbergschule.de
SUMMARY:Sport- und Spielefest
DESCRIPTION:
URL:https://huellbergschule.de/termine/sport-und-spielefest/
END:VEVENT
BEGIN:VEVENT
DTSTART;VALUE=DATE:20230619
DTEND;VALUE=DATE:20230621
DTSTAMP:20260424T195133
CREATED:20220624T104517Z
LAST-MODIFIED:20220624T104529Z
UID:6057-1687132800-1687305599@huellbergschule.de
SUMMARY:Zeugnisausgabe 1./2./3. Schuljahr
DESCRIPTION:Terminvergabe durch die Klassenlehrkraft
URL:https://huellbergschule.de/termine/zeugnisausgabe-1-2-3-schuljahr-2/
END:VEVENT
BEGIN:VEVENT
DTSTART;VALUE=DATE:20230621
DTEND;VALUE=DATE:20230622
DTSTAMP:20260424T195133
CREATED:20220624T104622Z
LAST-MODIFIED:20220624T104622Z
UID:6059-1687305600-1687391999@huellbergschule.de
SUMMARY:Abschlussfeier der 4. Schuljahre
DESCRIPTION:mit Ausgabe der Abschlusszeugnisse
URL:https://huellbergschule.de/termine/abschlussfeier-der-4-schuljahre-3/
END:VEVENT
BEGIN:VEVENT
DTSTART;VALUE=DATE:20230622
DTEND;VALUE=DATE:20230805
DTSTAMP:20260424T195133
CREATED:20220624T104706Z
LAST-MODIFIED:20220624T104706Z
UID:6061-1687392000-1691193599@huellbergschule.de
SUMMARY:Sommerferien
DESCRIPTION:
URL:https://huellbergschule.de/termine/sommerferien-6/
END:VEVENT
END:VCALENDAR