BEGIN:VCALENDAR
VERSION:2.0
PRODID:-// - ECPv6.15.20//NONSGML v1.0//EN
CALSCALE:GREGORIAN
METHOD:PUBLISH
X-ORIGINAL-URL:https://huellbergschule.de
X-WR-CALDESC:Veranstaltungen für 
REFRESH-INTERVAL;VALUE=DURATION:PT1H
X-Robots-Tag:noindex
X-PUBLISHED-TTL:PT1H
BEGIN:VTIMEZONE
TZID:Europe/Berlin
BEGIN:DAYLIGHT
TZOFFSETFROM:+0100
TZOFFSETTO:+0200
TZNAME:CEST
DTSTART:20230326T010000
END:DAYLIGHT
BEGIN:STANDARD
TZOFFSETFROM:+0200
TZOFFSETTO:+0100
TZNAME:CET
DTSTART:20231029T010000
END:STANDARD
BEGIN:DAYLIGHT
TZOFFSETFROM:+0100
TZOFFSETTO:+0200
TZNAME:CEST
DTSTART:20240331T010000
END:DAYLIGHT
BEGIN:STANDARD
TZOFFSETFROM:+0200
TZOFFSETTO:+0100
TZNAME:CET
DTSTART:20241027T010000
END:STANDARD
BEGIN:DAYLIGHT
TZOFFSETFROM:+0100
TZOFFSETTO:+0200
TZNAME:CEST
DTSTART:20250330T010000
END:DAYLIGHT
BEGIN:STANDARD
TZOFFSETFROM:+0200
TZOFFSETTO:+0100
TZNAME:CET
DTSTART:20251026T010000
END:STANDARD
END:VTIMEZONE
BEGIN:VEVENT
DTSTART;VALUE=DATE:20240209
DTEND;VALUE=DATE:20240210
DTSTAMP:20260424T065127
CREATED:20230912T094221Z
LAST-MODIFIED:20230912T094221Z
UID:6411-1707436800-1707523199@huellbergschule.de
SUMMARY:Unterricht im Kostüm (Unterricht von 8:15-11:45 Uhr)
DESCRIPTION:
URL:https://huellbergschule.de/termine/unterricht-im-kostuem-unterricht-von-815-1145-uhr/
END:VEVENT
BEGIN:VEVENT
DTSTART;VALUE=DATE:20240212
DTEND;VALUE=DATE:20240213
DTSTAMP:20260424T065127
CREATED:20240111T101627Z
LAST-MODIFIED:20240111T101627Z
UID:6550-1707696000-1707782399@huellbergschule.de
SUMMARY:Rosenmontag (Brauchtumstag)
DESCRIPTION:
URL:https://huellbergschule.de/termine/rosenmontag-brauchtumstag-4/
END:VEVENT
BEGIN:VEVENT
DTSTART;VALUE=DATE:20240213
DTEND;VALUE=DATE:20240214
DTSTAMP:20260424T065127
CREATED:20230912T094404Z
LAST-MODIFIED:20230912T094404Z
UID:6415-1707782400-1707868799@huellbergschule.de
SUMMARY:Beweglicher Ferientag
DESCRIPTION:An diesem Tag findet kein Unterricht statt.
URL:https://huellbergschule.de/termine/beweglicher-ferientag-13/
END:VEVENT
BEGIN:VEVENT
DTSTART;VALUE=DATE:20240214
DTEND;VALUE=DATE:20240215
DTSTAMP:20260424T065127
CREATED:20230912T094510Z
LAST-MODIFIED:20230912T094510Z
UID:6417-1707868800-1707955199@huellbergschule.de
SUMMARY:Beweglicher Ferientag
DESCRIPTION:An diesem Tag findet kein Unterricht statt.
URL:https://huellbergschule.de/termine/beweglicher-ferientag-14/
END:VEVENT
END:VCALENDAR