BEGIN:VCALENDAR
VERSION:2.0
PRODID:-// - ECPv6.15.20//NONSGML v1.0//EN
CALSCALE:GREGORIAN
METHOD:PUBLISH
X-ORIGINAL-URL:https://huellbergschule.de
X-WR-CALDESC:Veranstaltungen für 
REFRESH-INTERVAL;VALUE=DURATION:PT1H
X-Robots-Tag:noindex
X-PUBLISHED-TTL:PT1H
BEGIN:VTIMEZONE
TZID:Europe/Berlin
BEGIN:DAYLIGHT
TZOFFSETFROM:+0100
TZOFFSETTO:+0200
TZNAME:CEST
DTSTART:20240331T010000
END:DAYLIGHT
BEGIN:STANDARD
TZOFFSETFROM:+0200
TZOFFSETTO:+0100
TZNAME:CET
DTSTART:20241027T010000
END:STANDARD
BEGIN:DAYLIGHT
TZOFFSETFROM:+0100
TZOFFSETTO:+0200
TZNAME:CEST
DTSTART:20250330T010000
END:DAYLIGHT
BEGIN:STANDARD
TZOFFSETFROM:+0200
TZOFFSETTO:+0100
TZNAME:CET
DTSTART:20251026T010000
END:STANDARD
BEGIN:DAYLIGHT
TZOFFSETFROM:+0100
TZOFFSETTO:+0200
TZNAME:CEST
DTSTART:20260329T010000
END:DAYLIGHT
BEGIN:STANDARD
TZOFFSETFROM:+0200
TZOFFSETTO:+0100
TZNAME:CET
DTSTART:20261025T010000
END:STANDARD
END:VTIMEZONE
BEGIN:VEVENT
DTSTART;TZID=Europe/Berlin:20250218T080000
DTEND;TZID=Europe/Berlin:20250218T114500
DTSTAMP:20260423T095645
CREATED:20240917T182421Z
LAST-MODIFIED:20250210T141014Z
UID:7076-1739865600-1739879100@huellbergschule.de
SUMMARY:Kindersprechtag
DESCRIPTION:
URL:https://huellbergschule.de/termine/kindersprechtag/
END:VEVENT
BEGIN:VEVENT
DTSTART;TZID=Europe/Berlin:20250228T080000
DTEND;TZID=Europe/Berlin:20250228T114500
DTSTAMP:20260423T095645
CREATED:20240917T182633Z
LAST-MODIFIED:20240917T182633Z
UID:7079-1740729600-1740743100@huellbergschule.de
SUMMARY:Unterricht im Kostüm
DESCRIPTION:
URL:https://huellbergschule.de/termine/unterricht-im-kostuem-3/
END:VEVENT
END:VCALENDAR