BEGIN:VCALENDAR
VERSION:2.0
PRODID:-// - ECPv6.15.20//NONSGML v1.0//EN
CALSCALE:GREGORIAN
METHOD:PUBLISH
X-ORIGINAL-URL:https://huellbergschule.de
X-WR-CALDESC:Veranstaltungen für 
REFRESH-INTERVAL;VALUE=DURATION:PT1H
X-Robots-Tag:noindex
X-PUBLISHED-TTL:PT1H
BEGIN:VTIMEZONE
TZID:Europe/Berlin
BEGIN:DAYLIGHT
TZOFFSETFROM:+0100
TZOFFSETTO:+0200
TZNAME:CEST
DTSTART:20240331T010000
END:DAYLIGHT
BEGIN:STANDARD
TZOFFSETFROM:+0200
TZOFFSETTO:+0100
TZNAME:CET
DTSTART:20241027T010000
END:STANDARD
BEGIN:DAYLIGHT
TZOFFSETFROM:+0100
TZOFFSETTO:+0200
TZNAME:CEST
DTSTART:20250330T010000
END:DAYLIGHT
BEGIN:STANDARD
TZOFFSETFROM:+0200
TZOFFSETTO:+0100
TZNAME:CET
DTSTART:20251026T010000
END:STANDARD
BEGIN:DAYLIGHT
TZOFFSETFROM:+0100
TZOFFSETTO:+0200
TZNAME:CEST
DTSTART:20260329T010000
END:DAYLIGHT
BEGIN:STANDARD
TZOFFSETFROM:+0200
TZOFFSETTO:+0100
TZNAME:CET
DTSTART:20261025T010000
END:STANDARD
END:VTIMEZONE
BEGIN:VEVENT
DTSTART;VALUE=DATE:20250501
DTEND;VALUE=DATE:20250502
DTSTAMP:20260423T041932
CREATED:20240917T183159Z
LAST-MODIFIED:20240917T183159Z
UID:7089-1746057600-1746143999@huellbergschule.de
SUMMARY:Tag der Arbeit
DESCRIPTION:Feiertag- an diesem Tag findet kein Unterricht statt. Die OGS ist geschlossen.
URL:https://huellbergschule.de/termine/tag-der-arbeit-3/
END:VEVENT
BEGIN:VEVENT
DTSTART;TZID=Europe/Berlin:20250520T184500
DTEND;TZID=Europe/Berlin:20250520T200000
DTSTAMP:20260423T041932
CREATED:20240917T183320Z
LAST-MODIFIED:20250509T142800Z
UID:7091-1747766700-1747771200@huellbergschule.de
SUMMARY:Schulpflegschaftssitzung und Schulkonferenz
DESCRIPTION:
URL:https://huellbergschule.de/termine/schulpflegschaftssitzung-und-schulkonferenz/
END:VEVENT
BEGIN:VEVENT
DTSTART;VALUE=DATE:20250529
DTEND;VALUE=DATE:20250530
DTSTAMP:20260423T041932
CREATED:20240917T183432Z
LAST-MODIFIED:20240917T183432Z
UID:7093-1748476800-1748563199@huellbergschule.de
SUMMARY:Christi Himmelfahrt
DESCRIPTION:Feiertag – an diesem Tag findet kein Unterricht statt. Die OGS ist geschlossen.
URL:https://huellbergschule.de/termine/christi-himmelfahrt-8/
END:VEVENT
BEGIN:VEVENT
DTSTART;VALUE=DATE:20250530
DTEND;VALUE=DATE:20250531
DTSTAMP:20260423T041932
CREATED:20240917T183515Z
LAST-MODIFIED:20240917T183515Z
UID:7095-1748563200-1748649599@huellbergschule.de
SUMMARY:Beweglicher Ferientag
DESCRIPTION:An diesem Tag findet kein Unterricht statt. Die OGS ist geöffnet.
URL:https://huellbergschule.de/termine/beweglicher-ferientag-17/
END:VEVENT
END:VCALENDAR