BEGIN:VCALENDAR
VERSION:2.0
PRODID:-// - ECPv6.15.20//NONSGML v1.0//EN
CALSCALE:GREGORIAN
METHOD:PUBLISH
X-ORIGINAL-URL:https://huellbergschule.de
X-WR-CALDESC:Veranstaltungen für 
REFRESH-INTERVAL;VALUE=DURATION:PT1H
X-Robots-Tag:noindex
X-PUBLISHED-TTL:PT1H
BEGIN:VTIMEZONE
TZID:Europe/Berlin
BEGIN:DAYLIGHT
TZOFFSETFROM:+0100
TZOFFSETTO:+0200
TZNAME:CEST
DTSTART:20240331T010000
END:DAYLIGHT
BEGIN:STANDARD
TZOFFSETFROM:+0200
TZOFFSETTO:+0100
TZNAME:CET
DTSTART:20241027T010000
END:STANDARD
BEGIN:DAYLIGHT
TZOFFSETFROM:+0100
TZOFFSETTO:+0200
TZNAME:CEST
DTSTART:20250330T010000
END:DAYLIGHT
BEGIN:STANDARD
TZOFFSETFROM:+0200
TZOFFSETTO:+0100
TZNAME:CET
DTSTART:20251026T010000
END:STANDARD
BEGIN:DAYLIGHT
TZOFFSETFROM:+0100
TZOFFSETTO:+0200
TZNAME:CEST
DTSTART:20260329T010000
END:DAYLIGHT
BEGIN:STANDARD
TZOFFSETFROM:+0200
TZOFFSETTO:+0100
TZNAME:CET
DTSTART:20261025T010000
END:STANDARD
END:VTIMEZONE
BEGIN:VEVENT
DTSTART;VALUE=DATE:20250714
DTEND;VALUE=DATE:20250827
DTSTAMP:20260422T232359
CREATED:20240917T184118Z
LAST-MODIFIED:20240917T184118Z
UID:7107-1752451200-1756252799@huellbergschule.de
SUMMARY:Sommerferien
DESCRIPTION:Es findet kein Unterricht statt. Die OGS ist in den ersten 3 Ferienwochen geöffnet.
URL:https://huellbergschule.de/termine/sommerferien-7/
END:VEVENT
BEGIN:VEVENT
DTSTART;TZID=Europe/Berlin:20250827T090000
DTEND;TZID=Europe/Berlin:20250827T114500
DTSTAMP:20260422T232359
CREATED:20240917T184225Z
LAST-MODIFIED:20240917T184225Z
UID:7109-1756285200-1756295100@huellbergschule.de
SUMMARY:Erster Schultag
DESCRIPTION:
URL:https://huellbergschule.de/termine/erster-schultag-4/
END:VEVENT
BEGIN:VEVENT
DTSTART;TZID=Europe/Berlin:20250828T084500
DTEND;TZID=Europe/Berlin:20250828T090000
DTSTAMP:20260422T232359
CREATED:20240917T184459Z
LAST-MODIFIED:20240917T184459Z
UID:7112-1756370700-1756371600@huellbergschule.de
SUMMARY:Freiwilliger kirchlicher Segen im Rahmen der Einschulungsfeier
DESCRIPTION:
URL:https://huellbergschule.de/termine/freiwilliger-kirchlicher-segen-im-rahmen-der-einschulungsfeier/
END:VEVENT
END:VCALENDAR